BEGIN:VCALENDAR
VERSION:2.0
PRODID:-//hacksw/handcal//NONSGML v1.0//EN
CALSCALE:GREGORIAN
BEGIN:VEVENT
DTEND:20240127T010000Z
UID: 69e7188840f39
DTSTAMP:20260421T012616Z
LOCATION:Figge Art Museum
DESCRIPTION:Gather with fellow Vikings on the banks of the Mississippi for Winter in the Quad Cities! Enjoy drinks\, heavy appetizers and the company of alumni\, parents and friends of Augustana College. President Andrea Talentino will share about Augustana's bold future as it undertakes a new strategic plan.&nbsp\;\n\nBefore the event\, registrants are invited to a professional development workshop led by Shelby Olson '79\, principal of CareerLife Directions and member of the Augustana College Board of Trustees. Shelby will present "Courageous Conversations\," an empowering seminar on personal advocacy in the workplace.\n
URL;VALUE=URI:https://www.augustana.edu/about-us/events/2024/winter-quad-cities-alumni-and-friends-event
SUMMARY:Winter in the Quad Cities alumni and friends event
DTSTART:20240127T010000Z
END:VEVENT
END:VCALENDAR
