BEGIN:VCALENDAR
VERSION:2.0
PRODID:-//hacksw/handcal//NONSGML v1.0//EN
CALSCALE:GREGORIAN
BEGIN:VEVENT
DTEND:20240120T200000Z
UID: 69e7184c1f5ec
DTSTAMP:20260421T012516Z
LOCATION:
DESCRIPTION:Alumni and friends of the college are invited to join fellow Vikings at&nbsp\;Lincolnwood Lou Malnati's Pizzeria\, Lincolnwood\, Ill.\, for a social gathering before the men's basketball game vs. North Park University. Pizza will be provided and a cash bar will be available.\n
URL;VALUE=URI:https://www.augustana.edu/about-us/events/2024/alumni-and-friends-mens-basketball-vs-north-park-university
SUMMARY:Alumni and friends at men's basketball vs. North Park University
DTSTART:20240120T200000Z
END:VEVENT
END:VCALENDAR
