BEGIN:VCALENDAR
VERSION:2.0
PRODID:-//hacksw/handcal//NONSGML v1.0//EN
CALSCALE:GREGORIAN
BEGIN:VEVENT
DTEND:20240303T200000Z
UID: 69e71889d2009
DTSTAMP:20260421T012617Z
LOCATION:Centennial Hall
DESCRIPTION:The Augustana Choir\, the Augustana Choral Artists and the Augustana Oratorio Society will perform with the Quad City Symphony Orchestra on March 2 and 3.Tickets are available through the Quad City Symphony Orchestra.Program informationConductor: Mark Russell SmithBrandenburg Concerto No.3\, BWV 1048\, G major (Johann Sebastian Bach)Prelude from the First Cello Suite&nbsp\;(Johann Sebastian Bach)Suite (Overture) No.3\, BWV 1068\, II. Air&nbsp\;(Johann Sebastian Bach)St. Matthew Passion&nbsp\;(Johann Sebastian Bach)No. 48 Recit: Er hat uns allen wohlgetanNo. 49 Aria: Aus Liebe will mein Heiland sterbenNo. 54 Chorale: O Haupt voll Blut und WundenNo. 65 Aria: Mache dich\, mein Herze\, reinPrelude and Fugue no.21 in Bb from The Well-Tempered Clavier&nbsp\;(Johann Sebastian Bach)B minor Mass\, No. 27 Dona nobis pacem&nbsp\;(Johann Sebastian Bach)Requiem\, op.48 (Gabriel&nbsp\;Fauré)
URL;VALUE=URI:https://www.augustana.edu/about-us/events/2024/masterworks-v-faure-requiem
SUMMARY:Masterworks V: The Fauré Requiem
DTSTART:20240303T200000Z
END:VEVENT
END:VCALENDAR
