BEGIN:VCALENDAR
VERSION:2.0
PRODID:-//hacksw/handcal//NONSGML v1.0//EN
CALSCALE:GREGORIAN
BEGIN:VEVENT
DTEND:20240201T010000Z
UID: 69e718a738a6e
DTSTAMP:20260421T012647Z
LOCATION:Carver P.E. Center
DESCRIPTION:The Augustana Women's Basketball team plays Elmhurst University.\n\n2023-2023 Home Games:\n\nFebruary 3 at 5 P.M. vs. Carthage College\n\nFebruary 10 at 5 P.M. vs. Millikin University\n
URL;VALUE=URI:https://www.augustana.edu/about-us/events/2024/womens-basketball-vs-elmhurst-university
SUMMARY:Women's basketball vs. Elmhurst University
DTSTART:20240201T010000Z
END:VEVENT
END:VCALENDAR
