BEGIN:VCALENDAR
VERSION:2.0
PRODID:-//hacksw/handcal//NONSGML v1.0//EN
CALSCALE:GREGORIAN
BEGIN:VEVENT
DTEND:20240118T010000Z
UID: 69e7188ad83f6
DTSTAMP:20260421T012618Z
LOCATION:Carver P.E. Center
DESCRIPTION:The Augustana Women's Basketball team plays Wheaton College.\n\n2023-2023 Home Games:\n\nJanuary 31 at 7 P.M. vs. Elmhurst University\n\nFebruary 3 at 5 P.M. vs. Carthage College\n\nFebruary 10 at 5 P.M. vs. Millikin University\n
URL;VALUE=URI:https://www.augustana.edu/about-us/events/2024/womens-basketball-vs-wheaton-college
SUMMARY:Women's basketball vs. Wheaton College
DTSTART:20240118T010000Z
END:VEVENT
END:VCALENDAR
