BEGIN:VCALENDAR
VERSION:2.0
PRODID:-//hacksw/handcal//NONSGML v1.0//EN
CALSCALE:GREGORIAN
BEGIN:VEVENT
DTEND:20240225T200000Z
UID: 69e718f595687
DTSTAMP:20260421T012805Z
LOCATION:
DESCRIPTION:
URL;VALUE=URI:https://www.augustana.edu/about-us/events/2024/jeremy-dauber-jewish-comedy-serious-history
SUMMARY:Jeremy Dauber: 'Jewish Comedy: A Serious History'
DTSTART:20240225T200000Z
END:VEVENT
END:VCALENDAR
