BEGIN:VCALENDAR
VERSION:2.0
PRODID:-//hacksw/handcal//NONSGML v1.0//EN
CALSCALE:GREGORIAN
BEGIN:VEVENT
DTEND:20240324T000000Z
UID: 69e718f08d2ce
DTSTAMP:20260421T012800Z
LOCATION:
DESCRIPTION:The Augustana Choir\, under the direction of Dr. Jon Hurty\, will perform concerts in California in March 2024.\n\nThe voice ensemble will sing a selection of traditional and contemporary choral works. The choir is known for its innovative programming\, attention to detail\, and musical excellence.\n\nJoining this performance will be the Canyon High School Chamber Singers\, directed by Jens Hurty.\n\nEstablished in 1931\, the Augustana Choir has been conducted by Dr. Hurty since 1996. The choir has performed at Orchestra Hall in Chicago\, and Alice Tully Hall and Carnegie Hall in New York City\, as well as many major cathedrals and concert venues in Sweden\, Norway\, China\, Germany\, Italy\, Austria\, Japan\, Korea\, Spain\, France and the Czech Republic.&nbsp\;\n
URL;VALUE=URI:https://www.augustana.edu/about-us/events/2024/augustana-choir-concert-yorba-linda-calif
SUMMARY:Augustana Choir concert in Yorba Linda\, Calif.
DTSTART:20240324T000000Z
END:VEVENT
END:VCALENDAR
