BEGIN:VCALENDAR
VERSION:2.0
PRODID:-//hacksw/handcal//NONSGML v1.0//EN
CALSCALE:GREGORIAN
BEGIN:VEVENT
DTEND:20240414T190000Z
UID: 69e8081ff3e9a
DTSTAMP:20260421T182831Z
LOCATION:Denkmann Memorial Building
DESCRIPTION:Augustana alumnus Grant Estes will perform a recital of works by Bach\, Myaskowsky and the world premiere of a piece by Augustana faculty member Jacob Bancks. The concert is presented as a commemoration of Dr. Janina Ehrlich's 45 years of service at Augustana College.\n
URL;VALUE=URI:https://www.augustana.edu/about-us/events/2024/guest-recital-grant-estes-cello
SUMMARY:Guest recital: Grant Estes\, cello
DTSTART:20240414T190000Z
END:VEVENT
END:VCALENDAR
