BEGIN:VCALENDAR
VERSION:2.0
PRODID:-//hacksw/handcal//NONSGML v1.0//EN
CALSCALE:GREGORIAN
BEGIN:VEVENT
DTEND:20240211T011500Z
UID: 69e7190fcfbeb
DTSTAMP:20260421T012831Z
LOCATION:Carver P.E. Center
DESCRIPTION:The Augustana Men's basketball team will play vs.&nbsp\;Millikin University.\n\nComplete schedule\n
URL;VALUE=URI:https://www.augustana.edu/about-us/events/2024/mens-basketball-vs-millikin-university
SUMMARY:Men's Basketball vs. Millikin University
DTSTART:20240211T011500Z
END:VEVENT
END:VCALENDAR
