BEGIN:VCALENDAR
VERSION:2.0
PRODID:-//hacksw/handcal//NONSGML v1.0//EN
CALSCALE:GREGORIAN
BEGIN:VEVENT
DTEND:20240208T010000Z
UID: 69e718895899c
DTSTAMP:20260421T012617Z
LOCATION:Carver P.E. Center
DESCRIPTION:The Augustana Men's basketball team will play vs.&nbsp\;North Central College.\n\nComplete schedule\n
URL;VALUE=URI:https://www.augustana.edu/about-us/events/2024/mens-basketball-vs-north-central-college
SUMMARY:Men's Basketball vs. North Central College
DTSTART:20240208T010000Z
END:VEVENT
END:VCALENDAR
