BEGIN:VCALENDAR
VERSION:2.0
PRODID:-//hacksw/handcal//NONSGML v1.0//EN
CALSCALE:GREGORIAN
BEGIN:VEVENT
DTEND:20240125T010000Z
UID: 69e71910d0107
DTSTAMP:20260421T012832Z
LOCATION:Carver P.E. Center
DESCRIPTION:The Augustana Men's basketball team will play vs.&nbsp\;Elmhurst University.\n\nComplete schedule\n
URL;VALUE=URI:https://www.augustana.edu/about-us/events/2024/mens-basketball-vs-elmhurst-university
SUMMARY:Men's Basketball vs. Elmhurst University
DTSTART:20240125T010000Z
END:VEVENT
END:VCALENDAR
