BEGIN:VCALENDAR
VERSION:2.0
PRODID:-//hacksw/handcal//NONSGML v1.0//EN
CALSCALE:GREGORIAN
BEGIN:VEVENT
DTEND:20240104T010000Z
UID: 69e718f82eae3
DTSTAMP:20260421T012808Z
LOCATION:Carver P.E. Center
DESCRIPTION:The Augustana Men's basketball team will play vs. Wheaton College.\n\nComplete schedule\n
URL;VALUE=URI:https://www.augustana.edu/about-us/events/2024/mens-basketball-vs-wheaton-college
SUMMARY:Men's Basketball vs. Wheaton College
DTSTART:20240104T010000Z
END:VEVENT
END:VCALENDAR
