BEGIN:VCALENDAR
VERSION:2.0
PRODID:-//hacksw/handcal//NONSGML v1.0//EN
CALSCALE:GREGORIAN
BEGIN:VEVENT
DTEND:20231231T010000Z
UID: 69e719105477b
DTSTAMP:20260421T012832Z
LOCATION:Carver P.E. Center
DESCRIPTION:The Augustana Men's basketball team will play vs. Benedictine University.\n\nComplete schedule\n
URL;VALUE=URI:https://www.augustana.edu/about-us/events/2023/mens-basketball-vs-benedictine-university
SUMMARY:Men's Basketball vs. Benedictine University
DTSTART:20231231T010000Z
END:VEVENT
END:VCALENDAR
