BEGIN:VCALENDAR
VERSION:2.0
PRODID:-//hacksw/handcal//NONSGML v1.0//EN
CALSCALE:GREGORIAN
BEGIN:VEVENT
DTEND:20231222T010000Z
UID: 69e718ef06f8c
DTSTAMP:20260421T012759Z
LOCATION:Carver P.E. Center
DESCRIPTION:The Augustana Men's basketball team will play vs. Illinois College.\n\nComplete schedule\n
URL;VALUE=URI:https://www.augustana.edu/about-us/events/2023/mens-basketball-vs-illinois-college
SUMMARY:Men's Basketball vs. Illinois College
DTSTART:20231222T010000Z
END:VEVENT
END:VCALENDAR
