BEGIN:VCALENDAR
VERSION:2.0
PRODID:-//hacksw/handcal//NONSGML v1.0//EN
CALSCALE:GREGORIAN
BEGIN:VEVENT
DTEND:20231217T220000Z
UID: 69e718f6a3d9d
DTSTAMP:20260421T012806Z
LOCATION:Carver P.E. Center
DESCRIPTION:The Augustana Men's basketball team will play vs. Lake Forest College.\n\nComplete schedule\n
URL;VALUE=URI:https://www.augustana.edu/about-us/events/2023/mens-basketball-vs-lake-forest-college
SUMMARY:Men's Basketball vs. Lake Forest College
DTSTART:20231217T220000Z
END:VEVENT
END:VCALENDAR
