BEGIN:VCALENDAR
VERSION:2.0
PRODID:-//hacksw/handcal//NONSGML v1.0//EN
CALSCALE:GREGORIAN
BEGIN:VEVENT
DTEND:20231210T011500Z
UID: 69e718b866e61
DTSTAMP:20260421T012704Z
LOCATION:Carver P.E. Center
DESCRIPTION:The Augustana Men's basketball team will play vs. North Park University.\n\nComplete schedule\n
URL;VALUE=URI:https://www.augustana.edu/about-us/events/2023/mens-basketball-vs-north-park-university
SUMMARY:Men's Basketball vs. North Park University
DTSTART:20231210T011500Z
END:VEVENT
END:VCALENDAR
