BEGIN:VCALENDAR
VERSION:2.0
PRODID:-//hacksw/handcal//NONSGML v1.0//EN
CALSCALE:GREGORIAN
BEGIN:VEVENT
DTEND:20240314T143000Z
UID: 69e718b7dbfc7
DTSTAMP:20260421T012703Z
LOCATION:The Gerber Center for Student Life
DESCRIPTION:Spring Preview Days help prospective students and their families learn more about what Augustana College has to offer.\n\nA Spring Preview Day is a great way for high school juniors and sophomores — and transfer students — to get a jump start on the college search. Explore Augustana with a campus tour\, learn about the admissions process and more!\n\n→&nbsp\;Sign up\n\n&nbsp\;\n\nSchedule:\n\n9:30-10 a.m.&nbsp\;— Check-in and opportunity fair\n10-10:30 a.m.&nbsp\;— Admissions and scholarship overview\n10:30-11:45 a.m.&nbsp\;— Campus tour\n11:45 a.m.-12:30 p.m.&nbsp\;— Lunch\n12:30-1 p.m.&nbsp\;— Admissions mythbusting featuring current student and alumni panel discussion\n
URL;VALUE=URI:https://www.augustana.edu/about-us/events/2024/spring-preview-day-mar14
SUMMARY:Spring Preview Day
DTSTART:20240314T143000Z
END:VEVENT
END:VCALENDAR
