BEGIN:VCALENDAR
VERSION:2.0
PRODID:-//hacksw/handcal//NONSGML v1.0//EN
CALSCALE:GREGORIAN
BEGIN:VEVENT
DTEND:20231202T200000Z
UID: 69e5e02a02763
DTSTAMP:20260420T031330Z
LOCATION:Centennial Hall
DESCRIPTION:
URL;VALUE=URI:https://www.augustana.edu/about-us/events/2023/christmas-augustana
SUMMARY:Christmas at Augustana presented by Quad City Bank & Trust
DTSTART:20231202T200000Z
END:VEVENT
END:VCALENDAR
