BEGIN:VCALENDAR
VERSION:2.0
PRODID:-//hacksw/handcal//NONSGML v1.0//EN
CALSCALE:GREGORIAN
BEGIN:VEVENT
DTEND:20231021T180000Z
UID: 69e718f19266d
DTSTAMP:20260421T012801Z
LOCATION:Thorson-Lucken Field
DESCRIPTION:
URL;VALUE=URI:https://www.augustana.edu/about-us/events/2023/womens-soccer-vs-carroll-college-pink-out-breast-cancer-awareness-game
SUMMARY:Women's soccer vs. Carroll College: 'Pink-Out' breast cancer awareness game
DTSTART:20231021T180000Z
END:VEVENT
END:VCALENDAR
