BEGIN:VCALENDAR
VERSION:2.0
PRODID:-//hacksw/handcal//NONSGML v1.0//EN
CALSCALE:GREGORIAN
BEGIN:VEVENT
DTEND:20231005T000000Z
UID: 69e7190f5b449
DTSTAMP:20260421T012831Z
LOCATION:Thorson-Lucken Field
DESCRIPTION:The Augustana Vikings women's soccer team will play&nbsp\;Illinois Wesleyan University.\n\nOther home games this season:\n\nOct. 18: 7:00 p.m. vs. Wheaton\n\nOct. 21: 1:00 p.m. vs. Carroll\n\n&nbsp\;\n
URL;VALUE=URI:https://www.augustana.edu/about-us/events/2023/womens-soccer-vs-illinois-wesleyan
SUMMARY:Women's soccer vs. Illinois Wesleyan
DTSTART:20231005T000000Z
END:VEVENT
END:VCALENDAR
