BEGIN:VCALENDAR
VERSION:2.0
PRODID:-//hacksw/handcal//NONSGML v1.0//EN
CALSCALE:GREGORIAN
BEGIN:VEVENT
DTEND:20230930T230000Z
UID: 69e72f6b33446
DTSTAMP:20260421T030355Z
LOCATION:Thorson-Lucken Field
DESCRIPTION:The Augustana Vikings women's soccer team will play Carthage College.\n\nOther home games this season:\n\nOct. 4: 7:00 p.m. vs. Illinois Wesleyan\n\nOct. 18: 7:00 p.m. vs. Wheaton\n\nOct. 21: 1:00 p.m. vs. Carroll\n\n&nbsp\;\n
URL;VALUE=URI:https://www.augustana.edu/about-us/events/2023/womens-soccer-vs-carthage-college
SUMMARY:Women's soccer vs. Carthage College
DTSTART:20230930T230000Z
END:VEVENT
END:VCALENDAR
