BEGIN:VCALENDAR
VERSION:2.0
PRODID:-//hacksw/handcal//NONSGML v1.0//EN
CALSCALE:GREGORIAN
BEGIN:VEVENT
DTEND:20230910T190000Z
UID: 69e72f9bb8faa
DTSTAMP:20260421T030443Z
LOCATION:Thorson-Lucken Field
DESCRIPTION:The Augustana Vikings women's soccer team will play the Lakeland College muskies.\n\nOther home games this season:\n\nSept. 13: 6:00 p.m. vs. Central\n\nSept. 17: 1:00 p.m. vs. Lawrence\n\nSept. 27: 6:00 p.m. vs. Illinois College\n\nSept. 30: TBD vs. Carthage\n\nOct. 4: 7:00 p.m. vs. Illinois Wesleyan\n\nOct. 18: 7:00 p.m. vs. Wheaton\n\nOct. 21: 1:00 p.m. vs. Carroll\n\n&nbsp\;\n
URL;VALUE=URI:https://www.augustana.edu/about-us/events/2023/womens-soccer-vs-lakeland-college
SUMMARY:Women's soccer vs. Lakeland College
DTSTART:20230910T190000Z
END:VEVENT
END:VCALENDAR
