BEGIN:VCALENDAR
VERSION:2.0
PRODID:-//hacksw/handcal//NONSGML v1.0//EN
CALSCALE:GREGORIAN
BEGIN:VEVENT
DTEND:20231026T000000Z
UID: 69e72f6b46b7d
DTSTAMP:20260421T030355Z
LOCATION:Thorson-Lucken Field
DESCRIPTION:The Augustana Vikings men's soccer team will play North Central College.\n\n&nbsp\;\n
URL;VALUE=URI:https://www.augustana.edu/about-us/events/2023/mens-soccer-vs-north-central-college
SUMMARY:Men's soccer vs. North Central College
DTSTART:20231026T000000Z
END:VEVENT
END:VCALENDAR
