BEGIN:VCALENDAR
VERSION:2.0
PRODID:-//hacksw/handcal//NONSGML v1.0//EN
CALSCALE:GREGORIAN
BEGIN:VEVENT
DTEND:20231012T000000Z
UID: 69e72f5cdadfe
DTSTAMP:20260421T030340Z
LOCATION:Thorson-Lucken Field
DESCRIPTION:The Augustana Vikings men's soccer team will play Elmhurst University.\n\nOther home games this season:\n\nOct. 21: 3:30 p.m. vs. Carroll\n\nOct. 25: 7:00 p.m. vs. North Central\n\n&nbsp\;\n
URL;VALUE=URI:https://www.augustana.edu/about-us/events/2023/mens-soccer-vs-elmhurst-university
SUMMARY:Men's soccer vs. Elmhurst University
DTSTART:20231012T000000Z
END:VEVENT
END:VCALENDAR
