BEGIN:VCALENDAR
VERSION:2.0
PRODID:-//hacksw/handcal//NONSGML v1.0//EN
CALSCALE:GREGORIAN
BEGIN:VEVENT
DTEND:20230930T180000Z
UID: 69e72f6d845a2
DTSTAMP:20260421T030357Z
LOCATION:Lindberg Stadium 
DESCRIPTION:The Augustana Vikings will play football vs. Carroll University.\n\nThe game will be live-streamed.\n\nOther home games this season:\n\nOct. 7: 1 p.m. vs. Millikin\nOct. 21: 1 p.m. vs. North Park\nNov. 11: 12 p.m. vs. North Central\n\nComplete schedule\n
URL;VALUE=URI:https://www.augustana.edu/about-us/events/2023/football-vs-carroll-university
SUMMARY:Football vs. Carroll University
DTSTART:20230930T180000Z
END:VEVENT
END:VCALENDAR
