BEGIN:VCALENDAR
VERSION:2.0
PRODID:-//hacksw/handcal//NONSGML v1.0//EN
CALSCALE:GREGORIAN
BEGIN:VEVENT
DTEND:20170209T223000Z
UID: 69e94a2a1766e
DTSTAMP:20260422T172234Z
LOCATION:Old Main 
DESCRIPTION:Tiffany Fitzgerald\, the founder of Black Girls Golf\, will be available to talk with the campus community at an open forum from 4:30-5:30 p.m.\n\nShe will give the Stanley Erikson Lectureship in Public Affairs at 11 a.m. Saturday in the Gävle Room.&nbsp\;The lecture is free but registration is requested by Feb. 7.\n\nFitzgerald\, a former resident of the Quad Cities\, founded Black Girls Golf in 2013. The organization provides golf news\, information and golf clinics for women who are interested in learning\, practicing\, and playing golf.\n\nThe lecture will serve as the keynote for the QC Black Business Expo\, sponsored by Augustana's Center for Inclusive Leadership and Equity and the QC Empowerment Network. There will be entertainment\, activities for youth and families\, contests and door prizes from 1-4 p.m.\n
URL;VALUE=URI:https://www.augustana.edu/about-us/events/2017/tiffany-fitzgerald-open-forum
SUMMARY:Tiffany Fitzgerald open forum
DTSTART:20170209T223000Z
END:VEVENT
END:VCALENDAR
