BEGIN:VCALENDAR
VERSION:2.0
PRODID:-//hacksw/handcal//NONSGML v1.0//EN
CALSCALE:GREGORIAN
BEGIN:VEVENT
DTEND:20170423T213000Z
UID: 69e9222ca1266
DTSTAMP:20260422T143156Z
LOCATION:Swanson Stadium/Brunner Field
DESCRIPTION:The Augustana Vikings will play a doubleheader at home against&nbsp\;the Illinois Wesleyan Titans. Games begin at 2:00 and 4:30.&nbsp\;\n\nFind live stats here.\n
URL;VALUE=URI:https://www.augustana.edu/about-us/events/2017/mens-baseball-vs-illinois-wesleyan-0
SUMMARY:Men's Baseball vs. Illinois Wesleyan
DTSTART:20170423T213000Z
END:VEVENT
END:VCALENDAR
