BEGIN:VCALENDAR
VERSION:2.0
PRODID:-//hacksw/handcal//NONSGML v1.0//EN
CALSCALE:GREGORIAN
BEGIN:VEVENT
DTEND:20170412T003000Z
UID: 69e924f1ce049
DTSTAMP:20260422T144345Z
LOCATION:Centennial Hall
DESCRIPTION:Pianist Benjamin Loeb and soprano Carine Tinney will perform as part of the Signature Series\, sponsored by the Quad City Symphony and WVIK\, Quad Cities NPR.\n\nLoeb is executive director of the Quad City Symphony Orchestra\, a soloist\, accompanist\, conductor\, arranger and educator.\n\nScottish-born soprano Carine Tinney lives in Berlin and has given concerts in Scotland\, Japan\, Italy\, Germany \, Canada and the U.S. She is to appear with the Quad City Symphony&nbsp\;April 8-9.\n\n• Program\n
URL;VALUE=URI:https://www.augustana.edu/about-us/events/2017/signature-series-benjamin-loeb-piano-and-carine-tinney-soprano
SUMMARY:Signature Series: Benjamin Loeb\, piano\, and Carine Tinney\, soprano
DTSTART:20170412T003000Z
END:VEVENT
END:VCALENDAR
