BEGIN:VCALENDAR
VERSION:2.0
PRODID:-//hacksw/handcal//NONSGML v1.0//EN
CALSCALE:GREGORIAN
BEGIN:VEVENT
DTEND:20230225T160000Z
UID: 69e72f9a48125
DTSTAMP:20260421T030442Z
LOCATION:
DESCRIPTION:The annual Shockingly Modern Saxophone Festival will feature performances from Augustana faculty and the Augustana College Saxophone Studio. All events are free and open to the public.\n\nProgram: Festival&nbsp\;Concert 1\, Augustana Saxophone Studio\n\nAphorismes VII\, A Étienne Rolin (b. 1952)\;&nbsp\;Moises Salinas\, tenor saxophone\n\nAbstraction 1 Randall Hall (b. 1969)\;&nbsp\;Jack Kaczmarek\, alto saxophone\n\nAphorismes VII\, D Étienne Rolin\;&nbsp\;Nicole Grafon\, alto saxophone\n\nArcanum 2 Randall Hall\;&nbsp\;Tyler Samoska\, tenor saxophone\n\nAphorismes VII\, I Étienne Rolin\;&nbsp\;Ethan Chiu\, tenor saxophone\n\nAphorismes VII\, H Étienne Rolin\;&nbsp\;Linnea Tabaka\, alto saxophone\n\nJackdaw Wayne Siegel (b. 1953)\;&nbsp\;Bree Turner\, baritone saxophone\n
URL;VALUE=URI:https://www.augustana.edu/about-us/events/2023/shockingly-modern-saxophone-festival-concert-1
SUMMARY:Shockingly Modern Saxophone Festival Concert 1
DTSTART:20230225T160000Z
END:VEVENT
END:VCALENDAR
