BEGIN:VCALENDAR
VERSION:2.0
PRODID:-//hacksw/handcal//NONSGML v1.0//EN
CALSCALE:GREGORIAN
BEGIN:VEVENT
DTEND:20230429T180000Z
UID: 69e72f6cc28d1
DTSTAMP:20260421T030356Z
LOCATION:Carver P.E. Center
DESCRIPTION:The Vikings softball team will host Monmouth College in a doubleheader for Senior Day. Game 1 begins at 1 p.m.\n\nThe Vikings close out the regular season on May 6 at Illinois Wesleyan.\n\nThe CCIW Tournament is slated to begin May 11.\n
URL;VALUE=URI:https://www.augustana.edu/about-us/events/2023/softball-vs-wheaton
SUMMARY:Softball vs. Wheaton 
DTSTART:20230429T180000Z
END:VEVENT
END:VCALENDAR
