BEGIN:VCALENDAR
VERSION:2.0
PRODID:-//hacksw/handcal//NONSGML v1.0//EN
CALSCALE:GREGORIAN
BEGIN:VEVENT
DTEND:20230423T180000Z
UID: 69e72f5b3387d
DTSTAMP:20260421T030339Z
LOCATION:Carver P.E. Center
DESCRIPTION:The Vikings softball team will host the Carroll University pioneers&nbsp\;in a doubleheader. Game 1 begins at 1 p.m.\n\nSenior Day will be held in the team's final home series of the year against Wheaton on April 29. The Vikings close out the regular season on May 6 at Illinois Wesleyan.\n\nThe CCIW Tournament is slated to begin May 11.\n
URL;VALUE=URI:https://www.augustana.edu/about-us/events/2023/softball-vs-carroll-university
SUMMARY:Softball vs. Carroll University
DTSTART:20230423T180000Z
END:VEVENT
END:VCALENDAR
