BEGIN:VCALENDAR
VERSION:2.0
PRODID:-//hacksw/handcal//NONSGML v1.0//EN
CALSCALE:GREGORIAN
BEGIN:VEVENT
DTEND:20230419T210000Z
UID: 69e72f6c31c3a
DTSTAMP:20260421T030356Z
LOCATION:Carver P.E. Center
DESCRIPTION:The Vikings softball team will host the University of Wisconsin-Platteville pioneers in a doubleheader. Game 1 begins at 4 p.m.\n\nSenior Day will be held in the team's final home series of the year against Wheaton on April 29. The Vikings close out the regular season on May 6 at Illinois Wesleyan.\n\nThe CCIW Tournament is slated to begin May 11.\n
URL;VALUE=URI:https://www.augustana.edu/about-us/events/2023/softball-vs-uw-platteville
SUMMARY:Softball vs. UW-Platteville
DTSTART:20230419T210000Z
END:VEVENT
END:VCALENDAR
