BEGIN:VCALENDAR
VERSION:2.0
PRODID:-//hacksw/handcal//NONSGML v1.0//EN
CALSCALE:GREGORIAN
BEGIN:VEVENT
DTEND:20230425T000000Z
UID: 69e9af251f85d
DTSTAMP:20260423T003325Z
LOCATION:Denkmann Memorial Building
DESCRIPTION:Dr. Ralph Troll\, professor emeritus of biology\, will speak about his experiences as a young boy during the Holocaust\, and his family's emigration to the United States in 1947.\n
URL;VALUE=URI:https://www.augustana.edu/about-us/events/2023/yom-hashoah-geifman-holocaust-remembrance-lecture
SUMMARY:Yom HaShoah Geifman Holocaust lecture
DTSTART:20230425T000000Z
END:VEVENT
END:VCALENDAR
