BEGIN:VCALENDAR
VERSION:2.0
PRODID:-//hacksw/handcal//NONSGML v1.0//EN
CALSCALE:GREGORIAN
BEGIN:VEVENT
DTEND:20230305T013000Z
UID: 69e72f5c00e5a
DTSTAMP:20260421T030340Z
LOCATION:Denkmann Memorial Building
DESCRIPTION:John Flannery will perform a piano recital.&nbsp\;He is a junior from Washington\, Iowa\, majoring in piano performance and music composition.\n\nFlannery was a winner of the annual Concerto Competition at Augustana in May 2022. He participated in a many competitions throughout high school\, and most notably\, was the winner of the Marilyn Minford McCoid Young Artist Competition and was given the opportunity to perform the first movement of Ravel’s Piano Concerto in G with the Southeast Iowa Symphony Orchestra. (See&nbsp\;Augie pianist plays his way through the semester)\n
URL;VALUE=URI:https://www.augustana.edu/about-us/events/2023/student-recital-john-flannery-piano
SUMMARY:Student recital: John Flannery\, piano
DTSTART:20230305T013000Z
END:VEVENT
END:VCALENDAR
