BEGIN:VCALENDAR
VERSION:2.0
PRODID:-//hacksw/handcal//NONSGML v1.0//EN
CALSCALE:GREGORIAN
BEGIN:VEVENT
DTEND:20230131T183000Z
UID: 69e72f6d04e89
DTSTAMP:20260421T030357Z
LOCATION:
DESCRIPTION:Join the students of Dr. Steve Hager’s Nature Photography J-term class to view their final exhibit from 12:30-3:30 p.m.\n\nSee the photos in person or virtually on Instagram.\n\nStudent photography projects:\n\n• Birding the Quad Cities in Winter by Alex Mortenson\n\n• Water in Winter by Kylie Jozwik\n\n• Intimate Landscapes of the Quad Cities by Gabbi Loiz\n\n• Beauty in the Bleak by Sarah Sorrell\n\n• Elements of “Nature” by Mykenzie James\n\n• Variations on a Tree by Darby Burk\n\n• Miracles with Paws by Madison Morrow\n\n• Human Nature by Hunter Fitzwater\n\n• Nurture Nature by Ali Lesak\n\n• The Way of Water by Jack Worrel\n\n• Nature Remains by Connor Malley\n\n• Exploring Nature by Jaclyn Kiermas\n\n• DECAY by Angel Cruz\n\n• Multiplicity by Trevor Boryla\n
URL;VALUE=URI:https://www.augustana.edu/about-us/events/2023/nature-photography-exhibit-0
SUMMARY:Nature Photography exhibit
DTSTART:20230131T183000Z
END:VEVENT
END:VCALENDAR
