BEGIN:VCALENDAR
VERSION:2.0
PRODID:-//hacksw/handcal//NONSGML v1.0//EN
CALSCALE:GREGORIAN
BEGIN:VEVENT
DTEND:20230224T000000Z
UID: 69e72f593adfd
DTSTAMP:20260421T030337Z
LOCATION:Denkmann Memorial Building
DESCRIPTION:Augustana College will host the “Birth of the Computer: The John Atanasoff Story\,” a film\, panel discussion and reception.\n\nThe event\, sponsored by the college and the Davenport and Rock Island public libraries\, will include a viewing of the documentary “Atanasoff\, Father of the Computer.” A panel discussion will focus on John Atanasoff\, the inventor of the electronic digital computer\, and his ties to the Quad-Cities area.\n\nA reception will follow at Bent River Brewing Company\, 512 24th St.\, Rock Island.\n
URL;VALUE=URI:https://www.augustana.edu/about-us/events/2023/birth-computer-john-atanasoff-story
SUMMARY:Birth of the Computer: The John Atanasoff Story
DTSTART:20230224T000000Z
END:VEVENT
END:VCALENDAR
