BEGIN:VCALENDAR
VERSION:2.0
PRODID:-//hacksw/handcal//NONSGML v1.0//EN
CALSCALE:GREGORIAN
BEGIN:VEVENT
DTEND:20230317T000000Z
UID: 69e75dad7ac42
DTSTAMP:20260421T062117Z
LOCATION:Olin Center for Educational Technology
DESCRIPTION:The annual Francophone Film Festival at Augustana will screen a film each Thursday from Feb. 16-March 16.\n\nTonight's movie from filmmaker Céline Sciamma ("Portrait of a Lady on Fire")&nbsp\;is a 2021 fantasy drama that follows a young girl coping with the death of her maternal grandmother by bonding with her mother.&nbsp\;\n\nRuntime one&nbsp\;hour\, 13 minutes\; rated PG.\n
URL;VALUE=URI:https://www.augustana.edu/about-us/events/2023/francophone-film-festival-maman
SUMMARY:Francophone Film Festival: 'Petite Maman'
DTSTART:20230317T000000Z
END:VEVENT
END:VCALENDAR
