BEGIN:VCALENDAR
VERSION:2.0
PRODID:-//hacksw/handcal//NONSGML v1.0//EN
CALSCALE:GREGORIAN
BEGIN:VEVENT
DTEND:20230310T010000Z
UID: 69e75ca6b57fb
DTSTAMP:20260421T061654Z
LOCATION:Olin Center for Educational Technology
DESCRIPTION:The annual Francophone Film Festival at Augustana will screen a film each Thursday from Feb. 16-March 16.\n\nTonight's film is "Happening\," an adaptation of Annie Ernaux's novel of the same name\, looking back on her experience with abortion when it was still illegal in France in the 1960s.&nbsp\;\n\nIt was selected to world premiere in competition at the 78th Venice International Film Festival in 2021\, where the film won the Golden Lion.&nbsp\;\n\nRuntime one hour\, 40 minutes\; for ages 18 and above.\n
URL;VALUE=URI:https://www.augustana.edu/about-us/events/2023/francophone-film-festival-happening
SUMMARY:Francophone Film Festival: 'Happening'
DTSTART:20230310T010000Z
END:VEVENT
END:VCALENDAR
