BEGIN:VCALENDAR
VERSION:2.0
PRODID:-//hacksw/handcal//NONSGML v1.0//EN
CALSCALE:GREGORIAN
BEGIN:VEVENT
DTEND:20230303T010000Z
UID: 69e75d24e7000
DTSTAMP:20260421T061900Z
LOCATION:Olin Center for Educational Technology
DESCRIPTION:The annual Francophone Film Festival at Augustana will screen a film each Thursday from Feb. 16-March 16.\n\nTonight's film is "Lost Illusions\," a&nbsp\;drama is based on "Illusions perdues" (1837–43) by Honoré de Balzac\, and tells the story of the rise and the fall of a young man in Paris who dreamed of being a writer and became a journalist.\n\nThe film received 15 nominations at the 47th César Awards\, winning in seven categories.&nbsp\;\n\nRuntime two hours\, 29 minutes\; for ages 18 and above.\n
URL;VALUE=URI:https://www.augustana.edu/about-us/events/2023/francophone-film-festival-illusions
SUMMARY:Francophone Film Festival: 'Lost Illusions'
DTSTART:20230303T010000Z
END:VEVENT
END:VCALENDAR
