BEGIN:VCALENDAR
VERSION:2.0
PRODID:-//hacksw/handcal//NONSGML v1.0//EN
CALSCALE:GREGORIAN
BEGIN:VEVENT
DTEND:20230224T010000Z
UID: 69e743c031afa
DTSTAMP:20260421T043040Z
LOCATION:Olin Center for Educational Technology
DESCRIPTION:The annual Francophone Film Festival at Augustana will screen a film each Thursday from Feb. 16-March 16.\n\nTonight's film is "The Summit of the Gods\," a 2021 French-language animated film based on the Japanese manga series of the same name by Jiro Taniguchi.&nbsp\;\n\nA photojournalist’s obsessive quest for the truth about the first expedition to Mt. Everest leads him to search for an esteemed climber who went missing.\n\nRated PG\; runtime one hour\, 35 minutes.\n
URL;VALUE=URI:https://www.augustana.edu/about-us/events/2023/francophone-film-festival-summit
SUMMARY:Francophone Film Festival: 'The Summit of the Gods'
DTSTART:20230224T010000Z
END:VEVENT
END:VCALENDAR
