BEGIN:VCALENDAR
VERSION:2.0
PRODID:-//hacksw/handcal//NONSGML v1.0//EN
CALSCALE:GREGORIAN
BEGIN:VEVENT
DTEND:20230217T010000Z
UID: 69e75d7e44814
DTSTAMP:20260421T062030Z
LOCATION:Olin Center for Educational Technology
DESCRIPTION:The annual Francophone Film Festival at Augustana will screen a film each Thursday from Feb. 16-March 16.\n\nFirst up is "Gagarine'\," a&nbsp\;2020 drama that centers around Cité Gagarine\, a housing project south of Paris\, where the film was shot right before its demolition. A 16-year-old boy living there protests the planned demolition of the community.\n\nThe film was selected for the 2020 Cannes Film Festival and nominated for the European Discovery at the 33rd European Film Awards.\n\nRuntime one hour\, 38 minutes\; for ages 16 and above\n
URL;VALUE=URI:https://www.augustana.edu/about-us/events/2023/francophone-film-festival-gagarine
SUMMARY:Francophone Film Festival: 'Gagarine'
DTSTART:20230217T010000Z
END:VEVENT
END:VCALENDAR
