BEGIN:VCALENDAR
VERSION:2.0
PRODID:-//hacksw/handcal//NONSGML v1.0//EN
CALSCALE:GREGORIAN
BEGIN:VEVENT
DTEND:20230526T210000Z
UID: 69ea352068c7b
DTSTAMP:20260423T100504Z
LOCATION:Denkmann Memorial Building
DESCRIPTION:The Senior Departmental Honors Celebration will begin at 4 p.m. See the list of honorees.\n
URL;VALUE=URI:https://www.augustana.edu/about-us/events/2023/senior-departmental-honors-celebration
SUMMARY:Senior Departmental Honors Celebration
DTSTART:20230526T210000Z
END:VEVENT
END:VCALENDAR
