BEGIN:VCALENDAR
VERSION:2.0
PRODID:-//hacksw/handcal//NONSGML v1.0//EN
CALSCALE:GREGORIAN
BEGIN:VEVENT
DTEND:20230116T163000Z
UID: 69e743c0b07ed
DTSTAMP:20260421T043040Z
LOCATION:
DESCRIPTION:Augustana College will celebrate the life and legacy of Dr. Martin Luther King Jr.&nbsp\;with a virtual keynote by Dr. Bernard Lafayette Jr.&nbsp\;\n\nDr. Lafayette will speak on the theme of "Nonviolence in a Time of Civil Unrest: Yesterday and Today."\n\nAs a 20-year-old student\, Dr. Lafayette was one of the original Freedom Riders. From May until November 1961.\n\nDr. Lafayette's participation is hosted by Augustana College Office of Student Inclusion and Diversity in partnership with the Office of the Vice President for&nbsp\;Diversity\, Equity\, and Inclusion\, and the Institute for Leadership and Service.\n\nJanuary term classes will be held on an abbreviated schedule on Martin Luther King Day. Courses will meet for 90 minutes\, either from 8:30-10 a.m. or from 2:30-4 p.m.\n
URL;VALUE=URI:https://www.augustana.edu/about-us/events/2023/keynote-dr-bernard-lafayette-jr
SUMMARY:Keynote by Dr. Bernard Lafayette Jr. 
DTSTART:20230116T163000Z
END:VEVENT
END:VCALENDAR
