BEGIN:VCALENDAR
VERSION:2.0
PRODID:-//hacksw/handcal//NONSGML v1.0//EN
CALSCALE:GREGORIAN
BEGIN:VEVENT
DTEND:20230407T180000Z
UID: 69e75cd5d8d75
DTSTAMP:20260421T061741Z
LOCATION:Carver P.E. Center
DESCRIPTION:The Vikings softball team will host the Carthage College Redbirds in a doubleheader for their conference and home opener. Game 1 begins at 1 p.m.\n\nSenior Day will be held in the team's final home series of the year against Wheaton on April 29. The Vikings close out the regular season on May 6 at Illinois Wesleyan.\n\nThe CCIW Tournament is slated to begin May 11.\n
URL;VALUE=URI:https://www.augustana.edu/about-us/events/2023/softball-home-opener-vs-carthage
SUMMARY:Softball home opener vs. Carthage
DTSTART:20230407T180000Z
END:VEVENT
END:VCALENDAR
