BEGIN:VCALENDAR
VERSION:2.0
PRODID:-//hacksw/handcal//NONSGML v1.0//EN
CALSCALE:GREGORIAN
BEGIN:VEVENT
DTEND:20230429T170000Z
UID: 69e75956ce7e9
DTSTAMP:20260421T060246Z
LOCATION:Swanson Stadium/Brunner Field
DESCRIPTION:The&nbsp\;Vikings baseball team&nbsp\;will play the&nbsp\;Illinois Wesleyan University Titans in a doubleheader. The first game begins at noon.\n\n&nbsp\;\n
URL;VALUE=URI:https://www.augustana.edu/about-us/events/2023/baseball-vs-illinois-wesleyan
SUMMARY:Doubleheader vs. Illinois Wesleyan
DTSTART:20230429T170000Z
END:VEVENT
END:VCALENDAR
