BEGIN:VCALENDAR
VERSION:2.0
PRODID:-//hacksw/handcal//NONSGML v1.0//EN
CALSCALE:GREGORIAN
BEGIN:VEVENT
DTEND:20230428T000000Z
UID: 69e755661742a
DTSTAMP:20260421T054558Z
LOCATION:Swanson Stadium/Brunner Field
DESCRIPTION:The&nbsp\;Vikings baseball team&nbsp\;will play the Knox College Prairie Fire.\n\n•&nbsp\;Vikings baseball schedule\n\n&nbsp\;\n
URL;VALUE=URI:https://www.augustana.edu/about-us/events/2023/baseball-vs-knox
SUMMARY:Baseball vs. Knox
DTSTART:20230428T000000Z
END:VEVENT
END:VCALENDAR
