BEGIN:VCALENDAR
VERSION:2.0
PRODID:-//hacksw/handcal//NONSGML v1.0//EN
CALSCALE:GREGORIAN
BEGIN:VEVENT
DTEND:20230425T230000Z
UID: 69e743bfb7264
DTSTAMP:20260421T043039Z
LOCATION:Swanson Stadium/Brunner Field
DESCRIPTION:The&nbsp\;Vikings baseball team&nbsp\;will play the Eureka College Red Devils.\n\n•&nbsp\;Vikings baseball schedule\n\n&nbsp\;\n
URL;VALUE=URI:https://www.augustana.edu/about-us/events/2023/baseball-vs-eureka
SUMMARY:Baseball vs. Eureka
DTSTART:20230425T230000Z
END:VEVENT
END:VCALENDAR
