BEGIN:VCALENDAR
VERSION:2.0
PRODID:-//hacksw/handcal//NONSGML v1.0//EN
CALSCALE:GREGORIAN
BEGIN:VEVENT
DTEND:20230423T170000Z
UID: 69e7559246245
DTSTAMP:20260421T054642Z
LOCATION:Swanson Stadium/Brunner Field
DESCRIPTION:The&nbsp\;Vikings baseball team&nbsp\;will play the Millikin University Big Blue.\n\n•&nbsp\;Vikings baseball schedule\n\n&nbsp\;\n
URL;VALUE=URI:https://www.augustana.edu/about-us/events/2023/doubleheader-vs-millikin2
SUMMARY:Baseball vs. Millikin
DTSTART:20230423T170000Z
END:VEVENT
END:VCALENDAR
