BEGIN:VCALENDAR
VERSION:2.0
PRODID:-//hacksw/handcal//NONSGML v1.0//EN
CALSCALE:GREGORIAN
BEGIN:VEVENT
DTEND:20230422T170000Z
UID: 69e755931fbe7
DTSTAMP:20260421T054643Z
LOCATION:Swanson Stadium/Brunner Field
DESCRIPTION:The&nbsp\;Vikings baseball team&nbsp\;will play a doubleheader vs. the Millikin University Big Blue. The first game starts at noon.\n\n•&nbsp\;Vikings baseball schedule\n\n&nbsp\;\n
URL;VALUE=URI:https://www.augustana.edu/about-us/events/2023/baseball-vs-millikin
SUMMARY:Doubleheader vs. Millikin
DTSTART:20230422T170000Z
END:VEVENT
END:VCALENDAR
