BEGIN:VCALENDAR
VERSION:2.0
PRODID:-//hacksw/handcal//NONSGML v1.0//EN
CALSCALE:GREGORIAN
BEGIN:VEVENT
DTEND:20230414T230000Z
UID: 69e7556f13af3
DTSTAMP:20260421T054607Z
LOCATION:Swanson Stadium/Brunner Field
DESCRIPTION:The&nbsp\;Vikings baseball team&nbsp\;will play the&nbsp\;Carthage College Firebirds.\n\n•&nbsp\;Vikings baseball schedule\n\n&nbsp\;\n
URL;VALUE=URI:https://www.augustana.edu/about-us/events/2023/baseball-vs-carthage
SUMMARY:Baseball vs. Carthage
DTSTART:20230414T230000Z
END:VEVENT
END:VCALENDAR
